BEGIN:VCALENDAR
VERSION:2.0
PRODID:-//wp-events-plugin.com//7.2.3.1//EN
TZID:America/New_York
X-WR-TIMEZONE:America/New_York
BEGIN:VEVENT
UID:272@kofc7538.com
DTSTART;TZID=America/New_York:20231119T130000
DTEND;TZID=America/New_York:20231119T130000
DTSTAMP:20231115T020708Z
URL:https://kofc7538.com/events/ashland-christmas-parade-invitation-at-the
 -home-of-judy-mckinney-11-19-at-1pm/
SUMMARY:Ashland Christmas Parade Invitation at the home of Judy McKinney 11
 /19 at 1pm
DESCRIPTION:For those who do not know Judy she is a big SUPPORTER of the Kn
 ights of Columbus with an even BIGGER HEART!  All are welcome to join her
  parade party.  Please see the invitation below:\n\nLet's Have a Parade P
 arty!\n\nYou are invited to attend a lawn party to launch the holiday seas
 on and enjoy...\n\nThe 54th Ashland Old Time Holiday Parade\n\nat the Home
  of Judy McKinney\n\n218 Thompson Street\n\nAshland\, VA 23005\n\nInformat
 ion\n\nSunday November 19\, 2023\n\nArrive any time after 1pm\, parade beg
 ins at 2pm.\n\nMenu\n\nChili\, snacks and beverages\n\nPlease bring blanke
 ts or chairs and a snack to share\n\nParking\n\nHenry Clay Road\, Beverly 
 Road\, Thompson Street (West of Snead) and most side streets.  Come early
  and get as close as possible.  Feel free to drop off chairs and snacks a
 nd then park before the road closes.\n\nRSVP\n\nText 804.402.7056\n\nEmail
 :  mckinney.judith@gmail.com\n\nHope you can make it!
CATEGORIES:Socials
END:VEVENT
BEGIN:VTIMEZONE
TZID:America/New_York
X-LIC-LOCATION:America/New_York
BEGIN:STANDARD
DTSTART:20231105T010000
TZOFFSETFROM:-0400
TZOFFSETTO:-0500
TZNAME:EST
END:STANDARD
END:VTIMEZONE
END:VCALENDAR