BEGIN:VCALENDAR
VERSION:2.0
PRODID:-//wp-events-plugin.com//7.2.3.1//EN
TZID:America/New_York
X-WR-TIMEZONE:America/New_York
BEGIN:VEVENT
UID:270@kofc7538.com
DTSTART;TZID=America/New_York:20231019T130000
DTEND;TZID=America/New_York:20231019T140000
DTSTAMP:20231018T005033Z
URL:https://kofc7538.com/events/ed-gillikin-funeral-mass/
SUMMARY:Ed Gillikin Funeral Mass
DESCRIPTION:https://www.dignitymemorial.com/obituaries/richmond-va/edward-g
 illikin-11498892\nAll\,\n\n     I'll be going to the Mass (at St. John'
 s on Thursday at 1pm) from work and headed back to work soon after.  If y
 ou're going\, consider suiting up  -- State Council and Fourth degree mem
 bers will be in abundance.  If not\, maybe take some time to review the o
 bit.  Ed has been a force in the Virginia KofC for decades -- a full-thro
 ttle\, role model.\n--\n    Jim H.
CATEGORIES:Socials
LOCATION:St. John's\, 813 W. Nine Mile Road\, Highland Springs\, VA\, 23075
 \, United States
X-APPLE-STRUCTURED-LOCATION;VALUE=URI;X-ADDRESS=813 W. Nine Mile Road\, Hig
 hland Springs\, VA\, 23075\, United States;X-APPLE-RADIUS=100;X-TITLE=St. 
 John's:geo:0,0
END:VEVENT
BEGIN:VTIMEZONE
TZID:America/New_York
X-LIC-LOCATION:America/New_York
BEGIN:DAYLIGHT
DTSTART:20230312T030000
TZOFFSETFROM:-0500
TZOFFSETTO:-0400
TZNAME:EDT
END:DAYLIGHT
END:VTIMEZONE
END:VCALENDAR