BEGIN:VCALENDAR
VERSION:2.0
PRODID:-//wp-events-plugin.com//7.2.3.1//EN
TZID:America/New_York
X-WR-TIMEZONE:America/New_York
BEGIN:VEVENT
UID:271@kofc7538.com
DTSTART;TZID=America/New_York:20231023T180000
DTEND;TZID=America/New_York:20231023T200000
DTSTAMP:20231022T174832Z
URL:https://kofc7538.com/events/exemplification-officer-meeting/
SUMMARY:Exemplification/ Officer Meeting
DESCRIPTION:Worthy's\,\n\nPlease join us this Monday at 6:00pm to welcome a
  new member of our Council.  We will be holding an Exemplification for Ed
 ward Gufuston at St. Ann's prior to the Officer's meeting.  Dinner will b
 e held following the Exemplification and prior to the Officer Meeting.\n\n
 Fraternally\,\n\nDavid Frank\, GK\n\n&nbsp\;\nPresiding Officer -- Dave De
 puy\nCharity           -- Mike Fust\nUnity             -- Mario Della Vall
 e\nFraternity        -- GK Dave Frank\nWarden            -- John Williams\
 nFinSec            -- Gregg Palmer\nInvesting Officer -- Gregg Palmer\nFie
 ld Agent       -- Sal Filippelli (if available)\nChaplain          -- excu
 sed\n&nbsp\;
CATEGORIES:Meetings
LOCATION:St. Ann's Parish Hall\, 105 S. Snead\, Ash\, VA\, Tuvalu
X-APPLE-STRUCTURED-LOCATION;VALUE=URI;X-ADDRESS=105 S. Snead\, Ash\, VA\, T
 uvalu;X-APPLE-RADIUS=100;X-TITLE=St. Ann's Parish Hall:geo:0,0
END:VEVENT
BEGIN:VTIMEZONE
TZID:America/New_York
X-LIC-LOCATION:America/New_York
BEGIN:DAYLIGHT
DTSTART:20230312T030000
TZOFFSETFROM:-0500
TZOFFSETTO:-0400
TZNAME:EDT
END:DAYLIGHT
END:VTIMEZONE
END:VCALENDAR