BEGIN:VCALENDAR
VERSION:2.0
PRODID:-//wp-events-plugin.com//7.2.3.1//EN
TZID:America/New_York
X-WR-TIMEZONE:America/New_York
BEGIN:VEVENT
UID:276@kofc7538.com
DTSTART;TZID=America/New_York:20240224T170000
DTEND;TZID=America/New_York:20240224T190000
DTSTAMP:20240221T193336Z
URL:https://kofc7538.com/events/help-va-special-olympics-by-serving-dinner
 -saturday-feb-24-2024-from-5-7pm/
SUMMARY:Help VA Special Olympics by Serving Dinner Saturday\, Feb 24\, 2024
  from 5-7pm
DESCRIPTION:Special Olympics of Virginia will be hosting their State Basket
 ball Championship at the Henrico Sports &amp\; Events Center on Saturday\,
  February 24th.\nI’m asking for 7-10 men to work the food service line f
 or dinner between 5-7:00pm. Texas Roadhouse will be preparing and deliveri
 ng the food to the tent. We just need men to work the line serving the foo
 d.\nHenrico Sports &amp\; Event Center\n11000 Telegraph Road\nHenrico\, VA
 \nFebruary 24th\n5:00 PM – 7:00 PM\nFood service tent set up outside the
  Arena.\n&nbsp\;\n\nFraternally\,\n\n&nbsp\;\n\nDavid Frank
CATEGORIES:Volunteer Opportunities
END:VEVENT
BEGIN:VTIMEZONE
TZID:America/New_York
X-LIC-LOCATION:America/New_York
BEGIN:STANDARD
DTSTART:20231105T010000
TZOFFSETFROM:-0400
TZOFFSETTO:-0500
TZNAME:EST
END:STANDARD
END:VTIMEZONE
END:VCALENDAR