BEGIN:VCALENDAR
VERSION:2.0
PRODID:-//wp-events-plugin.com//7.2.3.1//EN
TZID:America/New_York
X-WR-TIMEZONE:America/New_York
BEGIN:VEVENT
UID:273@kofc7538.com
DTSTART;TZID=America/New_York:20231216T070000
DTEND;TZID=America/New_York:20231216T160000
DTSTAMP:20231214T004631Z
URL:https://kofc7538.com/events/inaugural-long-john-golf-tournament-decemb
 er-16-2023-lets-get-signed-up/
SUMMARY:Inaugural Long John Golf Tournament  December 16\, 2023 - Let's get
  signed up!
DESCRIPTION:KNIGHTS OF COLUMBUS COUNCIL #7538\nInaugural Long John Golf Tou
 rnament\n\nSee link for details.\n\n(Benefitting our children focused char
 ities)\n"Don't be a putts\, it's December and kids need stuff. Bring your 
 long johns and let’s play some golf."\nSaturday\, December 16\, 2023\nSi
 gn-in\, Breakfast\, and range balls begins at 8 a.m.\n10:00 a.m. Shotgun S
 tart\nHanover Golf Club\n4314 Country Club Dr\, Ashland\, VA 23005\n\nTOUR
 NAMENT REGISTRATION FORM_ v006 (1)
CATEGORIES:Meetings
LOCATION:Hanover Golf Club\, 14314 Country Club Dr\, Ashland\, VA\, 23005\,
  United States
X-APPLE-STRUCTURED-LOCATION;VALUE=URI;X-ADDRESS=14314 Country Club Dr\, Ash
 land\, VA\, 23005\, United States;X-APPLE-RADIUS=100;X-TITLE=Hanover Golf 
 Club:geo:0,0
END:VEVENT
BEGIN:VTIMEZONE
TZID:America/New_York
X-LIC-LOCATION:America/New_York
BEGIN:STANDARD
DTSTART:20231105T010000
TZOFFSETFROM:-0400
TZOFFSETTO:-0500
TZNAME:EST
END:STANDARD
END:VTIMEZONE
END:VCALENDAR