BEGIN:VCALENDAR
VERSION:2.0
PRODID:-//wp-events-plugin.com//7.2.3.1//EN
TZID:America/New_York
X-WR-TIMEZONE:America/New_York
BEGIN:VEVENT
UID:266@kofc7538.com
DTSTART;TZID=America/New_York:20231014T170000
DTEND;TZID=America/New_York:20231014T190000
DTSTAMP:20231011T141346Z
URL:https://kofc7538.com/events/italian-dinner-scholarship-dinner-night/
SUMMARY:Italian Dinner/Scholarship Dinner Night
DESCRIPTION:Join our council in recognizing and celebrating our annual scho
 larship winners and their families. Tickets are available for purchase now
 !
ATTACH;FMTTYPE=image/jpeg:https://kofc7538.com/wp-content/uploads/2023/09/
 Spagetti.jpg
CATEGORIES:Meetings,Socials
LOCATION:Saint Ann's Catholic Church\, 105 South Snead Street\, Ashland\, V
 irginia\, 23005\, United States
X-APPLE-STRUCTURED-LOCATION;VALUE=URI;X-ADDRESS=105 South Snead Street\, As
 hland\, Virginia\, 23005\, United States;X-APPLE-RADIUS=100;X-TITLE=Saint 
 Ann's Catholic Church:geo:0,0
END:VEVENT
BEGIN:VTIMEZONE
TZID:America/New_York
X-LIC-LOCATION:America/New_York
BEGIN:DAYLIGHT
DTSTART:20230312T030000
TZOFFSETFROM:-0500
TZOFFSETTO:-0400
TZNAME:EDT
END:DAYLIGHT
END:VTIMEZONE
END:VCALENDAR