BEGIN:VCALENDAR
VERSION:2.0
PRODID:-//wp-events-plugin.com//7.2.3.1//EN
TZID:America/New_York
X-WR-TIMEZONE:America/New_York
BEGIN:VEVENT
UID:268@kofc7538.com
DTSTART;TZID=America/New_York:20231026T100000
DTEND;TZID=America/New_York:20231028T180000
DTSTAMP:20231011T005926Z
URL:https://kofc7538.com/events/kovar-abc-fundraising-in-ladysmith-va/
SUMMARY:KOVAR ABC Fundraising in Ladysmith VA
DESCRIPTION:Please sign up for the KOVAR fundraising event at the Ladysmith
  ABC store on October 26 through October 28\, 2023 from 10am to 6pm.  KOV
 AR supports adults with intellectual disabilities.  This is a great way t
 o help the Council raise money for KOVAR and all materials are supplied. 
  Just show up with your smile:) and spend a two hour shift with your Broth
 er Knight!\n\nLocation\n\nVirginia ABC store (located in Ladysmith Food Li
 on shopping center)\n\n18035 US Route 1\n\nRuther Glen\, Virginia 22546\n\
 nBelow is the link to sign up!\n\nSign-up Sheets ‹ Knights of Columbus C
 ouncil 7538 — WordPress (kofc7538.com)\n\nIf you have any questions\, pl
 ease call me at 540.295.7588.  Thank you!\n\nDavid Frank\, GK
CATEGORIES:Volunteer Opportunities
END:VEVENT
BEGIN:VTIMEZONE
TZID:America/New_York
X-LIC-LOCATION:America/New_York
BEGIN:DAYLIGHT
DTSTART:20230312T030000
TZOFFSETFROM:-0500
TZOFFSETTO:-0400
TZNAME:EDT
END:DAYLIGHT
END:VTIMEZONE
END:VCALENDAR