BEGIN:VCALENDAR
VERSION:2.0
PRODID:-//wp-events-plugin.com//7.2.3.1//EN
TZID:America/New_York
X-WR-TIMEZONE:America/New_York
BEGIN:VEVENT
UID:69@kofc7538.com
DTSTART;TZID=America/New_York:20231211T183000
DTEND;TZID=America/New_York:20231212T200000
DTSTAMP:20231011T141545Z
URL:https://kofc7538.com/events/monthly-business-meeting-2023-12-11/
SUMMARY:Monthly Membership Meeting
DESCRIPTION:The monthly membership is our council's business meeting.  It 
 occurs monthly with the meeting alternating between\, Saint Ann's Catholic
  Church in Ashland and Saint Mary's of the Annunciation in Ladysmith Virgi
 nia.
ATTACH;FMTTYPE=image/jpeg:https://kofc7538.com/wp-content/uploads/2018/07/
 Gavel.gif
CATEGORIES:Meetings
LOCATION:St Mary of the Annunciation Catholic Church\, 10306 Ladysmith RD\,
  Ladysmith\, Virginia\, 22501\, United States
X-APPLE-STRUCTURED-LOCATION;VALUE=URI;X-ADDRESS=10306 Ladysmith RD\, Ladysm
 ith\, Virginia\, 22501\, United States;X-APPLE-RADIUS=100;X-TITLE=St Mary 
 of the Annunciation Catholic Church:geo:0,0
END:VEVENT
BEGIN:VTIMEZONE
TZID:America/New_York
X-LIC-LOCATION:America/New_York
BEGIN:STANDARD
DTSTART:20231105T010000
TZOFFSETFROM:-0400
TZOFFSETTO:-0500
TZNAME:EST
END:STANDARD
END:VTIMEZONE
END:VCALENDAR