BEGIN:VCALENDAR
VERSION:2.0
PRODID:-//wp-events-plugin.com//7.2.3.1//EN
TZID:America/New_York
X-WR-TIMEZONE:America/New_York
BEGIN:VEVENT
UID:117@kofc7538.com
DTSTART;TZID=America/New_York:20271213T183000
DTEND;TZID=America/New_York:20271214T200000
DTSTAMP:20231023T221933Z
URL:https://kofc7538.com/events/monthly-business-meeting-2027-12-13/
SUMMARY:Monthly Membership Meeting
DESCRIPTION:The monthly membership is our council's business meeting.  It 
 occurs monthly with the meeting alternating between\, Saint Ann's Catholic
  Church in Ashland and Saint Mary's of the Annunciation in Ladysmith Virgi
 nia.
ATTACH;FMTTYPE=image/jpeg:https://kofc7538.com/wp-content/uploads/2018/07/
 Gavel.gif
CATEGORIES:Meetings
LOCATION:Saint Ann's Catholic Church\, 105 South Snead Street\, Ashland\, V
 irginia\, 23005\, United States
X-APPLE-STRUCTURED-LOCATION;VALUE=URI;X-ADDRESS=105 South Snead Street\, As
 hland\, Virginia\, 23005\, United States;X-APPLE-RADIUS=100;X-TITLE=Saint 
 Ann's Catholic Church:geo:0,0
END:VEVENT
BEGIN:VTIMEZONE
TZID:America/New_York
X-LIC-LOCATION:America/New_York
BEGIN:STANDARD
DTSTART:20271107T010000
TZOFFSETFROM:-0400
TZOFFSETTO:-0500
TZNAME:EST
END:STANDARD
END:VTIMEZONE
END:VCALENDAR