BEGIN:VCALENDAR
VERSION:2.0
PRODID:-//wp-events-plugin.com//7.2.3.1//EN
TZID:America/New_York
X-WR-TIMEZONE:America/New_York
BEGIN:VEVENT
UID:265@kofc7538.com
DTSTART;TZID=America/New_York:20231021T070000
DTEND;TZID=America/New_York:20231021T120000
DTSTAMP:20230926T223457Z
URL:https://kofc7538.com/events/road-clean-up-hwy-1/
SUMMARY:Road Clean Up - US Hwy 1
DESCRIPTION:Road Cleanup US Hwy 1 - Meetup for Breakfast at Cracker Barrel 
 and then cleanup on US-1\n\nSignup under the Volunteer Opportunities Tab
ATTACH;FMTTYPE=image/jpeg:https://kofc7538.com/wp-content/uploads/2023/08/
 Cleanup.jpg
CATEGORIES:Volunteer Opportunities
LOCATION:Carcker Barrel Old Country Store\, 106 S Carter Rd\, Ashland\, VA\
 , 23005\, United States
X-APPLE-STRUCTURED-LOCATION;VALUE=URI;X-ADDRESS=106 S Carter Rd\, Ashland\,
  VA\, 23005\, United States;X-APPLE-RADIUS=100;X-TITLE=Carcker Barrel Old 
 Country Store:geo:0,0
END:VEVENT
BEGIN:VTIMEZONE
TZID:America/New_York
X-LIC-LOCATION:America/New_York
BEGIN:DAYLIGHT
DTSTART:20230312T030000
TZOFFSETFROM:-0500
TZOFFSETTO:-0400
TZNAME:EDT
END:DAYLIGHT
END:VTIMEZONE
END:VCALENDAR