BEGIN:VCALENDAR
VERSION:2.0
PRODID:-//wp-events-plugin.com//7.2.3.1//EN
TZID:America/New_York
X-WR-TIMEZONE:America/New_York
BEGIN:VEVENT
UID:269@kofc7538.com
DTSTART;TZID=America/New_York:20231026T160000
DTEND;TZID=America/New_York:20231026T180000
DTSTAMP:20231011T142322Z
URL:https://kofc7538.com/events/ronald-mcdonald-house-dinner-prep-2330-mon
 ument-ave-rva/
SUMMARY:Ronald McDonald House Dinner Prep - 2330 Monument Ave\, RVA
DESCRIPTION:Brothers\, October 26th is our next night to prepare dinner for
  the families with children at VCU's Children's Hospital at the Ronald McD
 onald House on Monument Ave.  Our first dinner was a great experience\, a
 sk PGK's Chuck D. Jim H. and Gregg P.   Chuck's wife also participated\,
  so please invite your spouses.  We prepared meals for 15 family members.
   We were able to speak with 3 parents\, a mom from Danville\, VA\, whose
  daughter has been in the hospital since birth 8 months ago and a couple f
 rom Clarksville\, TN.
CATEGORIES:Meetings
END:VEVENT
BEGIN:VTIMEZONE
TZID:America/New_York
X-LIC-LOCATION:America/New_York
BEGIN:DAYLIGHT
DTSTART:20230312T030000
TZOFFSETFROM:-0500
TZOFFSETTO:-0400
TZNAME:EDT
END:DAYLIGHT
END:VTIMEZONE
END:VCALENDAR