BEGIN:VCALENDAR
VERSION:2.0
PRODID:-//wp-events-plugin.com//7.2.3.1//EN
TZID:America/New_York
X-WR-TIMEZONE:America/New_York
BEGIN:VEVENT
UID:264@kofc7538.com
DTSTART;TZID=America/New_York:20231115T190000
DTEND;TZID=America/New_York:20231115T193000
DTSTAMP:20231011T141630Z
URL:https://kofc7538.com/events/rosey-night-3/
SUMMARY:Rosary
DESCRIPTION:Join us to honor our Lady each month
ATTACH;FMTTYPE=image/jpeg:https://kofc7538.com/wp-content/uploads/2023/08/
 rosary.jpg
CATEGORIES:Meetings
LOCATION:Saint Ann's Catholic Church\, 105 South Snead Street\, Ashland\, V
 irginia\, 23005\, United States
X-APPLE-STRUCTURED-LOCATION;VALUE=URI;X-ADDRESS=105 South Snead Street\, As
 hland\, Virginia\, 23005\, United States;X-APPLE-RADIUS=100;X-TITLE=Saint 
 Ann's Catholic Church:geo:0,0
END:VEVENT
BEGIN:VTIMEZONE
TZID:America/New_York
X-LIC-LOCATION:America/New_York
BEGIN:STANDARD
DTSTART:20231105T010000
TZOFFSETFROM:-0400
TZOFFSETTO:-0500
TZNAME:EST
END:STANDARD
END:VTIMEZONE
END:VCALENDAR