BEGIN:VCALENDAR
VERSION:2.0
PRODID:-//wp-events-plugin.com//7.2.3.1//EN
TZID:America/New_York
X-WR-TIMEZONE:America/New_York
BEGIN:VEVENT
UID:277@kofc7538.com
DTSTART;TZID=America/New_York:20240316T070000
DTEND;TZID=America/New_York:20240316T120000
DTSTAMP:20240224T163539Z
URL:https://kofc7538.com/events/semi-annual-road-clean-up-event-saturday-m
 arch-16/
SUMMARY:Semi-annual road clean-up event: Saturday\, March 16
DESCRIPTION:We plan to hold our semi-annual road clean-up event on Saturday
 \, March 16 (rain date: March 23).\n\nUsual procedures:\n\n7 am meet for b
 reakfast at Cracker Barrel (106 S. Carter Road\, Ashland).  Optional.\n\n
 8 am Parking lot of Falling Creek Log and Lumber Company\, 14313 US -1 Ash
 land Va.\n\nSee the Signup Sheet under the Volunteer Opportunities section
  of this website.\n\nIf you are not meeting us for breakfast\, you can sti
 ll meet us in the parking lot of Falling Creek Log and Lumber Company\, 14
 313 US -1 Ashland Va. Dress appropriately for the weather and bring any g
 ear you may want to use.  Thanks in advance for your support.\n\nRegards
 \,\n\nDave
CATEGORIES:Volunteer Opportunities
END:VEVENT
BEGIN:VTIMEZONE
TZID:America/New_York
X-LIC-LOCATION:America/New_York
BEGIN:DAYLIGHT
DTSTART:20240310T030000
TZOFFSETFROM:-0500
TZOFFSETTO:-0400
TZNAME:EDT
END:DAYLIGHT
END:VTIMEZONE
END:VCALENDAR