BEGIN:VCALENDAR
VERSION:2.0
PRODID:-//wp-events-plugin.com//7.2.3.1//EN
TZID:America/New_York
X-WR-TIMEZONE:America/New_York
BEGIN:VEVENT
UID:275@kofc7538.com
DTSTART;TZID=America/New_York:20240221T090000
DTEND;TZID=America/New_York:20240221T140000
DTSTAMP:20240213T024514Z
URL:https://kofc7538.com/events/va-pro-life-day/
SUMMARY:VA Pro-Life Day
DESCRIPTION:Join us for our third annual VA Pro-life Day on February 21\, 2
 024! If you are interested in participating we will meet at St. Ann’s at
  9:30am and carpool.
CATEGORIES:Volunteer Opportunities
LOCATION:Saint Ann's Catholic Church\, 105 South Snead Street\, Ashland\, V
 irginia\, 23005\, United States
X-APPLE-STRUCTURED-LOCATION;VALUE=URI;X-ADDRESS=105 South Snead Street\, As
 hland\, Virginia\, 23005\, United States;X-APPLE-RADIUS=100;X-TITLE=Saint 
 Ann's Catholic Church:geo:0,0
END:VEVENT
BEGIN:VTIMEZONE
TZID:America/New_York
X-LIC-LOCATION:America/New_York
BEGIN:STANDARD
DTSTART:20231105T010000
TZOFFSETFROM:-0400
TZOFFSETTO:-0500
TZNAME:EST
END:STANDARD
END:VTIMEZONE
END:VCALENDAR